BEGIN:VCALENDAR
VERSION:2.0
PRODID:-//City of Manassas Tourism - ECPv6.15.20//NONSGML v1.0//EN
CALSCALE:GREGORIAN
METHOD:PUBLISH
X-ORIGINAL-URL:https://visitmanassas.org
X-WR-CALDESC:Events for City of Manassas Tourism
REFRESH-INTERVAL;VALUE=DURATION:PT1H
X-Robots-Tag:noindex
X-PUBLISHED-TTL:PT1H
BEGIN:VTIMEZONE
TZID:America/New_York
BEGIN:DAYLIGHT
TZOFFSETFROM:-0500
TZOFFSETTO:-0400
TZNAME:EDT
DTSTART:20250309T070000
END:DAYLIGHT
BEGIN:STANDARD
TZOFFSETFROM:-0400
TZOFFSETTO:-0500
TZNAME:EST
DTSTART:20251102T060000
END:STANDARD
BEGIN:DAYLIGHT
TZOFFSETFROM:-0500
TZOFFSETTO:-0400
TZNAME:EDT
DTSTART:20260308T070000
END:DAYLIGHT
BEGIN:STANDARD
TZOFFSETFROM:-0400
TZOFFSETTO:-0500
TZNAME:EST
DTSTART:20261101T060000
END:STANDARD
BEGIN:DAYLIGHT
TZOFFSETFROM:-0500
TZOFFSETTO:-0400
TZNAME:EDT
DTSTART:20270314T070000
END:DAYLIGHT
BEGIN:STANDARD
TZOFFSETFROM:-0400
TZOFFSETTO:-0500
TZNAME:EST
DTSTART:20271107T060000
END:STANDARD
END:VTIMEZONE
BEGIN:VEVENT
DTSTART;TZID=America/New_York:20260423T080000
DTEND;TZID=America/New_York:20260423T130000
DTSTAMP:20260421T211057
CREATED:20251226T185843Z
LAST-MODIFIED:20251226T190234Z
UID:10003419-1776931200-1776949200@visitmanassas.org
SUMMARY:Farmers Market (Thursdays)
DESCRIPTION:Our award-winning Farmers Market is the gathering spot in Historic Downtown Manassas every Thursday from April 9-Oct. 29\, 2026 at the Harris Pavilion. Choose fresh produce\, flowers\, foods\, and a variety of local goods. The market accepts cash\, credit cards\, and SNAP\, and actively participates in Virginia Fresh Match and Senior & WIC Farmers' Market Nutrition Program (S/FMNP) food access initiatives. Awarded the prestigious Gold Level Certification in 2024 by the Virginia Farmers Market Association (VAFMA) and named "Best in Northern Virginia" by Virginia Living Magazine in 2023\, our market is sure to please! But remember\, please no pets allowed at the market.
URL:https://visitmanassas.org/event/farmers-market-thursdays-2/2026-04-23/
LOCATION:Harris Pavilion\, 9201 Center St\, Manassas\, VA\, 20110\, United States
ATTACH;FMTTYPE=image/jpeg:https://visitmanassas.org/wp-content/uploads/2022/07/ManassasVA2022_369_1920-Farmers-MArket-Produce.jpg
ORGANIZER;CN="Historic Manassas%2C Inc. (HMI)":MAILTO:info@historicmanassasinc.org
GEO:38.7509488;-77.4752667
X-APPLE-STRUCTURED-LOCATION;VALUE=URI;X-ADDRESS=Harris Pavilion 9201 Center St Manassas VA 20110 United States;X-APPLE-RADIUS=500;X-TITLE=9201 Center St:geo:-77.4752667,38.7509488
END:VEVENT
BEGIN:VEVENT
DTSTART;TZID=America/New_York:20260425T080000
DTEND;TZID=America/New_York:20260425T130000
DTSTAMP:20260421T211057
CREATED:20251226T191146Z
LAST-MODIFIED:20251226T191147Z
UID:10003501-1777104000-1777122000@visitmanassas.org
SUMMARY:Farmers Market (Saturdays)
DESCRIPTION:Go with a winner! Our Farmers Market has been voted as one of the best in the area by Prince William Living magazine. Shop from 100+ vendors\, April 11-Nov. 21\, 2026\, for fresh produce\, flowers\, foods\, and a variety of local goods. Weather permitting\, live bands play keeping everyone entertained. The market accepts cash\, credit cards\, and SNAP\, and actively participates in Virginia Fresh Match and Senior & WIC Farmers' Market Nutrition Program (S/FMNP) food access initiatives. \n\n\n\nAwarded the prestigious Gold Level Certification in 2024 by the Virginia Farmers Market Association (VAFMA) and named "Best in Northern Virginia" by Virginia Living Magazine in 2023\, our market is sure to please! But remember\, please no pets allowed at the market.
URL:https://visitmanassas.org/event/farmers-market-saturdays/2026-04-25/
LOCATION:Prince William Street Commuter Lot\, 9024 Prince William St\, Manassas\, VA\, 20110\, United States
ATTACH;FMTTYPE=image/jpeg:https://visitmanassas.org/wp-content/uploads/2023/03/Farmers-Market-ManassasVA2022_347.JPG-scaled.jpg
ORGANIZER;CN="Historic Manassas%2C Inc. (HMI)":MAILTO:info@historicmanassasinc.org
END:VEVENT
BEGIN:VEVENT
DTSTART;TZID=America/New_York:20260426T100000
DTEND;TZID=America/New_York:20260426T170000
DTSTAMP:20260421T211057
CREATED:20260227T135718Z
LAST-MODIFIED:20260312T141947Z
UID:10003258-1777197600-1777222800@visitmanassas.org
SUMMARY:NVA Thai Street Food & Culture Festival
DESCRIPTION:Spend Sundays tasting Thai street food every month in 2026 from April through October (EXCEPT July and August)! Mark these five dates on your calendar: April 26\, May 31\, June 14\, Sept. 27\, and Oct. 25. Savor authentic Thai street eats and be entertained by live performances\, crafts\, and more. Free entry and parking!
URL:https://visitmanassas.org/event/nva-thai-street-food-culture-festival-4/2026-04-26/
LOCATION:Manassas Museum Lawn\, 9101 Prince William St.\, Manassas\, VA\, 20110\, United States
CATEGORIES:Educational,Family Friendly,Festival,Live Music & Entertainment,Manassas Museum Event
ATTACH;FMTTYPE=image/jpeg:https://visitmanassas.org/wp-content/uploads/2026/02/NVA-Thai-Street-Food-Culture-Festival-5-dates-in-2026.jpg
ORGANIZER;CN="NVA Thai Center":MAILTO:nvathaicenter@gmail.com
END:VEVENT
BEGIN:VEVENT
DTSTART;TZID=America/New_York:20260430T080000
DTEND;TZID=America/New_York:20260430T130000
DTSTAMP:20260421T211057
CREATED:20251226T185843Z
LAST-MODIFIED:20251226T190234Z
UID:10003420-1777536000-1777554000@visitmanassas.org
SUMMARY:Farmers Market (Thursdays)
DESCRIPTION:Our award-winning Farmers Market is the gathering spot in Historic Downtown Manassas every Thursday from April 9-Oct. 29\, 2026 at the Harris Pavilion. Choose fresh produce\, flowers\, foods\, and a variety of local goods. The market accepts cash\, credit cards\, and SNAP\, and actively participates in Virginia Fresh Match and Senior & WIC Farmers' Market Nutrition Program (S/FMNP) food access initiatives. Awarded the prestigious Gold Level Certification in 2024 by the Virginia Farmers Market Association (VAFMA) and named "Best in Northern Virginia" by Virginia Living Magazine in 2023\, our market is sure to please! But remember\, please no pets allowed at the market.
URL:https://visitmanassas.org/event/farmers-market-thursdays-2/2026-04-30/
LOCATION:Harris Pavilion\, 9201 Center St\, Manassas\, VA\, 20110\, United States
ATTACH;FMTTYPE=image/jpeg:https://visitmanassas.org/wp-content/uploads/2022/07/ManassasVA2022_369_1920-Farmers-MArket-Produce.jpg
ORGANIZER;CN="Historic Manassas%2C Inc. (HMI)":MAILTO:info@historicmanassasinc.org
GEO:38.7509488;-77.4752667
X-APPLE-STRUCTURED-LOCATION;VALUE=URI;X-ADDRESS=Harris Pavilion 9201 Center St Manassas VA 20110 United States;X-APPLE-RADIUS=500;X-TITLE=9201 Center St:geo:-77.4752667,38.7509488
END:VEVENT
END:VCALENDAR