BEGIN:VCALENDAR
VERSION:2.0
PRODID:-//City of Manassas Tourism - ECPv6.15.20//NONSGML v1.0//EN
CALSCALE:GREGORIAN
METHOD:PUBLISH
X-ORIGINAL-URL:https://visitmanassas.org
X-WR-CALDESC:Events for City of Manassas Tourism
REFRESH-INTERVAL;VALUE=DURATION:PT1H
X-Robots-Tag:noindex
X-PUBLISHED-TTL:PT1H
BEGIN:VTIMEZONE
TZID:America/New_York
BEGIN:DAYLIGHT
TZOFFSETFROM:-0500
TZOFFSETTO:-0400
TZNAME:EDT
DTSTART:20240310T070000
END:DAYLIGHT
BEGIN:STANDARD
TZOFFSETFROM:-0400
TZOFFSETTO:-0500
TZNAME:EST
DTSTART:20241103T060000
END:STANDARD
BEGIN:DAYLIGHT
TZOFFSETFROM:-0500
TZOFFSETTO:-0400
TZNAME:EDT
DTSTART:20250309T070000
END:DAYLIGHT
BEGIN:STANDARD
TZOFFSETFROM:-0400
TZOFFSETTO:-0500
TZNAME:EST
DTSTART:20251102T060000
END:STANDARD
BEGIN:DAYLIGHT
TZOFFSETFROM:-0500
TZOFFSETTO:-0400
TZNAME:EDT
DTSTART:20260308T070000
END:DAYLIGHT
BEGIN:STANDARD
TZOFFSETFROM:-0400
TZOFFSETTO:-0500
TZNAME:EST
DTSTART:20261101T060000
END:STANDARD
END:VTIMEZONE
BEGIN:VEVENT
DTSTART;TZID=America/New_York:20250302T100000
DTEND;TZID=America/New_York:20250302T170000
DTSTAMP:20260421T171244
CREATED:20230901T143753Z
LAST-MODIFIED:20250220T202947Z
UID:10000659-1740909600-1740934800@visitmanassas.org
SUMMARY:International Food Festival
DESCRIPTION:Get global! Indulge in the ultimate foodie adventure with over 30 vendors serving up mouthwatering dishes: Thai\, Mexican\, Indian\, Persian\, and more! Come for free entertainment\, live DJ\, craft vendors\, and a Kids' Zone with free face painting and balloon animals. Celebrate cultures from around the globe in Historic Downtown Manassas. Fun for the whole family!
URL:https://visitmanassas.org/event/manassas-international-food-festival/
LOCATION:Manassas Museum Lawn\, 9101 Prince William St.\, Manassas\, VA\, 20110\, United States
CATEGORIES:Educational,Family Friendly,Festival,Live Music & Entertainment
ATTACH;FMTTYPE=image/jpeg:https://visitmanassas.org/wp-content/uploads/2023/09/International-Food-Festival-3-2-25.jpg
ORGANIZER;CN="Eventbrite":MAILTO:intlfoodfestival@gmail.com
END:VEVENT
BEGIN:VEVENT
DTSTART;TZID=America/New_York:20250323T100000
DTEND;TZID=America/New_York:20250323T170000
DTSTAMP:20260421T171244
CREATED:20250210T170922Z
LAST-MODIFIED:20250718T203914Z
UID:10003535-1742724000-1742749200@visitmanassas.org
SUMMARY:NVA Thai Street Food & Culture Festival
DESCRIPTION:Spend Sundays enjoying tasty Thai street food every month in 2025 from March through November: March 23\, April 6\, May 4\, June 1\, July 13\, August 3\, September 7\, October 12\, and November 2. To pair with these authentic Thai street eats\, there will be live music\, Thai dance\, crafts\, and more! Free entry.
URL:https://visitmanassas.org/event/nva-thai-street-food-culture-festival-2/2025-03-23/
LOCATION:Manassas Museum Lawn\, 9101 Prince William St.\, Manassas\, VA\, 20110\, United States
CATEGORIES:Educational,Family Friendly,Festival,Live Music & Entertainment,Manassas Museum Event
ATTACH;FMTTYPE=image/jpeg:https://visitmanassas.org/wp-content/uploads/2024/11/NVA-Thai-Street-Food-Culture-Festival-2025-Event-Calendar-March-Nov.-2025.jpeg
ORGANIZER;CN="NVA Thai Center":MAILTO:nvathaicenter@gmail.com
END:VEVENT
END:VCALENDAR