BEGIN:VCALENDAR
VERSION:2.0
PRODID:-//City of Manassas Tourism - ECPv6.15.20//NONSGML v1.0//EN
CALSCALE:GREGORIAN
METHOD:PUBLISH
X-WR-CALNAME:City of Manassas Tourism
X-ORIGINAL-URL:https://visitmanassas.org
X-WR-CALDESC:Events for City of Manassas Tourism
REFRESH-INTERVAL;VALUE=DURATION:PT1H
X-Robots-Tag:noindex
X-PUBLISHED-TTL:PT1H
BEGIN:VTIMEZONE
TZID:America/New_York
BEGIN:DAYLIGHT
TZOFFSETFROM:-0500
TZOFFSETTO:-0400
TZNAME:EDT
DTSTART:20230312T070000
END:DAYLIGHT
BEGIN:STANDARD
TZOFFSETFROM:-0400
TZOFFSETTO:-0500
TZNAME:EST
DTSTART:20231105T060000
END:STANDARD
BEGIN:DAYLIGHT
TZOFFSETFROM:-0500
TZOFFSETTO:-0400
TZNAME:EDT
DTSTART:20240310T070000
END:DAYLIGHT
BEGIN:STANDARD
TZOFFSETFROM:-0400
TZOFFSETTO:-0500
TZNAME:EST
DTSTART:20241103T060000
END:STANDARD
BEGIN:DAYLIGHT
TZOFFSETFROM:-0500
TZOFFSETTO:-0400
TZNAME:EDT
DTSTART:20250309T070000
END:DAYLIGHT
BEGIN:STANDARD
TZOFFSETFROM:-0400
TZOFFSETTO:-0500
TZNAME:EST
DTSTART:20251102T060000
END:STANDARD
END:VTIMEZONE
BEGIN:VEVENT
DTSTART;TZID=America/New_York:20241213T170000
DTEND;TZID=America/New_York:20241213T200000
DTSTAMP:20260421T135755
CREATED:20231116T140335Z
LAST-MODIFIED:20241213T155159Z
UID:10000685-1734109200-1734120000@visitmanassas.org
SUMMARY:Winter Wonderland Train Show
DESCRIPTION:Choo Choo! Marvel at the fantastic display of trains at the 2024 Winter Wonderland Train Show and immerse yourself in the holiday spirit with a variety of railroad-themed activities. This event is free for all ages!
URL:https://visitmanassas.org/event/winter-wonderland-train-show-2024-12-13/
LOCATION:Boys & Girls Club (Martin K. Alloy Club of Manassas)\, 9501 Dean Park Lane\, Manassas\, VA\, 20110
CATEGORIES:Date Night,Family Friendly,Holiday,Winter Holiday
ATTACH;FMTTYPE=image/jpeg:https://visitmanassas.org/wp-content/uploads/2023/11/Holiday-Train-Show-2023-Dec.-6-10.jpg
ORGANIZER;CN="City of Manassas Parks%2C Culture & Recreation":MAILTO:pcr@manassasva.gov
END:VEVENT
BEGIN:VEVENT
DTSTART;TZID=America/New_York:20241214T080000
DTEND;TZID=America/New_York:20241214T120000
DTSTAMP:20260421T135756
CREATED:20231116T134850Z
LAST-MODIFIED:20241213T214928Z
UID:10000679-1734163200-1734177600@visitmanassas.org
SUMMARY:Breakfast with Santa!
DESCRIPTION:Bring the kids for Breakfast with Santa! Enjoy all-you-can-eat pancakes\, bacon\, sausage\, eggs\, hash browns\, sausage gravy with biscuits! Pictures with Santa are free with each adult ticket or $2 each. Adults & Children 11+ are $12. Children 4-10 are $8. Children under 3 are free.
URL:https://visitmanassas.org/event/breakfast-with-santa/
LOCATION:Manassas Volunteer Fire Company\, 9322 Centreville Rd.\, Manassas\, VA\, 20110
CATEGORIES:Family Friendly,Holiday,Winter Holiday
ATTACH;FMTTYPE=image/jpeg:https://visitmanassas.org/wp-content/uploads/2023/11/Breakfast-with-Santa-12-9-23.jpg
END:VEVENT
BEGIN:VEVENT
DTSTART;TZID=America/New_York:20241214T100000
DTEND;TZID=America/New_York:20241214T160000
DTSTAMP:20260421T135756
CREATED:20231116T140031Z
LAST-MODIFIED:20241213T155227Z
UID:10000682-1734170400-1734192000@visitmanassas.org
SUMMARY:Winter Wonderland Train Show
DESCRIPTION:Choo Choo! Marvel at the fantastic display of trains at the 2024 Winter Wonderland Train Show and immerse yourself in the holiday spirit with a variety of railroad-themed activities. This event is free for all ages!
URL:https://visitmanassas.org/event/winter-wonderland-train-show-2024-12-14/
LOCATION:Boys & Girls Club (Martin K. Alloy Club of Manassas)\, 9501 Dean Park Lane\, Manassas\, VA\, 20110
CATEGORIES:Date Night,Family Friendly,Holiday,Winter Holiday
ATTACH;FMTTYPE=image/jpeg:https://visitmanassas.org/wp-content/uploads/2023/11/Holiday-Train-Show-2023-Dec.-6-10.jpg
ORGANIZER;CN="City of Manassas Parks%2C Culture & Recreation":MAILTO:pcr@manassasva.gov
END:VEVENT
BEGIN:VEVENT
DTSTART;TZID=America/New_York:20241215T100000
DTEND;TZID=America/New_York:20241215T160000
DTSTAMP:20260421T135756
CREATED:20231116T135817Z
LAST-MODIFIED:20241213T155241Z
UID:10000683-1734256800-1734278400@visitmanassas.org
SUMMARY:Winter Wonderland Train Show
DESCRIPTION:Choo Choo! Marvel at the fantastic display of trains at the 2024 Winter Wonderland Train Show and immerse yourself in the holiday spirit with a variety of railroad-themed activities. This event is free for all ages!
URL:https://visitmanassas.org/event/winter-wonderland-train-show-2024-12-15/
LOCATION:Boys & Girls Club (Martin K. Alloy Club of Manassas)\, 9501 Dean Park Lane\, Manassas\, VA\, 20110
CATEGORIES:Date Night,Family Friendly,Holiday,Winter Holiday
ATTACH;FMTTYPE=image/jpeg:https://visitmanassas.org/wp-content/uploads/2023/11/Holiday-Train-Show-2023-Dec.-6-10.jpg
ORGANIZER;CN="City of Manassas Parks%2C Culture & Recreation":MAILTO:pcr@manassasva.gov
END:VEVENT
END:VCALENDAR