BEGIN:VCALENDAR
VERSION:2.0
PRODID:-//City of Manassas Tourism - ECPv6.15.20//NONSGML v1.0//EN
CALSCALE:GREGORIAN
METHOD:PUBLISH
X-ORIGINAL-URL:https://visitmanassas.org
X-WR-CALDESC:Events for City of Manassas Tourism
REFRESH-INTERVAL;VALUE=DURATION:PT1H
X-Robots-Tag:noindex
X-PUBLISHED-TTL:PT1H
BEGIN:VTIMEZONE
TZID:America/New_York
BEGIN:DAYLIGHT
TZOFFSETFROM:-0500
TZOFFSETTO:-0400
TZNAME:EDT
DTSTART:20230312T070000
END:DAYLIGHT
BEGIN:STANDARD
TZOFFSETFROM:-0400
TZOFFSETTO:-0500
TZNAME:EST
DTSTART:20231105T060000
END:STANDARD
BEGIN:DAYLIGHT
TZOFFSETFROM:-0500
TZOFFSETTO:-0400
TZNAME:EDT
DTSTART:20240310T070000
END:DAYLIGHT
BEGIN:STANDARD
TZOFFSETFROM:-0400
TZOFFSETTO:-0500
TZNAME:EST
DTSTART:20241103T060000
END:STANDARD
BEGIN:DAYLIGHT
TZOFFSETFROM:-0500
TZOFFSETTO:-0400
TZNAME:EDT
DTSTART:20250309T070000
END:DAYLIGHT
BEGIN:STANDARD
TZOFFSETFROM:-0400
TZOFFSETTO:-0500
TZNAME:EST
DTSTART:20251102T060000
END:STANDARD
END:VTIMEZONE
BEGIN:VEVENT
DTSTART;TZID=America/New_York:20240407T100000
DTEND;TZID=America/New_York:20240407T160000
DTSTAMP:20260421T104924
CREATED:20240306T175004Z
LAST-MODIFIED:20240510T194833Z
UID:10000697-1712484000-1712505600@visitmanassas.org
SUMMARY:NVA Thai Street Food & Culture Festival
DESCRIPTION:Spend Sundays enjoying authentic Thai street food on the Manassas Museum Lawn April 7\, April 21\, May 5\, May 26\, June 9\, June 23\, July 14\, July 28\, Aug. 4\, Aug. 18\, Sept. 8\, Sept. 15\, Oct. 13\, and Nov. 17! To pair with these authentic Thai street eats\, there will be live music\, Thai dance\, crafts\, and more! Free entry.  \n\n\n\nNOTE: On these dates\, location is Prince William Commuter Lot (instead of on the museum lawn): June 9\, July 28\, Aug. 4\, Sept. 15.
URL:https://visitmanassas.org/event/nva-thai-street-food-culture-festival/2024-04-07/
LOCATION:Manassas Museum Lawn\, 9101 Prince William St.\, Manassas\, VA\, 20110\, United States
CATEGORIES:Date Night,Educational,Family Friendly,Festival,Live Music & Entertainment,Manassas Museum Event
ATTACH;FMTTYPE=image/jpeg:https://visitmanassas.org/wp-content/uploads/2024/03/Thai-Street-Food-Culture-Festival-2024-April-May-dates.jpg
ORGANIZER;CN="NVA Thai Center":MAILTO:nvathaicenter@gmail.com
END:VEVENT
BEGIN:VEVENT
DTSTART;TZID=America/New_York:20240420T130000
DTEND;TZID=America/New_York:20240420T140000
DTSTAMP:20260421T104924
CREATED:20240214T143905Z
LAST-MODIFIED:20240313T205942Z
UID:10000692-1713618000-1713621600@visitmanassas.org
SUMMARY:5K Beer Run x Sinistral Brewing | 2024 VA Brewery Running Series
DESCRIPTION:Lace up your running shoes and meet at Sinistral Brewing Company for this 5K\, untimed fun run that starts and ends at Sinistral. Walk\, jog\, or run - whatever goes! Complete the course and celebrate with us and get a local craft brew at the finish line. Registered\, underage participants will receive a token for a FREE non-alcoholic beverage. Dogs and strollers are welcome on the course with care and caution. The event is held rain or shine and promises to be a fun activity for all!
URL:https://visitmanassas.org/event/5k-beer-run-x-sinistral-brewing-2024-va-brewery-running-series/
LOCATION:Sinistral Brewing Company\, 9419 Main Street\, Manassas\, VA\, 20110\, United States
CATEGORIES:Family Friendly
ATTACH;FMTTYPE=image/jpeg:https://visitmanassas.org/wp-content/uploads/2024/02/5K-Run-Run-Sinistral-Brewing-April-20-2024.jpg
END:VEVENT
BEGIN:VEVENT
DTSTART;TZID=America/New_York:20240421T100000
DTEND;TZID=America/New_York:20240421T160000
DTSTAMP:20260421T104924
CREATED:20240306T175004Z
LAST-MODIFIED:20240510T194833Z
UID:10000699-1713693600-1713715200@visitmanassas.org
SUMMARY:NVA Thai Street Food & Culture Festival
DESCRIPTION:Spend Sundays enjoying authentic Thai street food on the Manassas Museum Lawn April 7\, April 21\, May 5\, May 26\, June 9\, June 23\, July 14\, July 28\, Aug. 4\, Aug. 18\, Sept. 8\, Sept. 15\, Oct. 13\, and Nov. 17! To pair with these authentic Thai street eats\, there will be live music\, Thai dance\, crafts\, and more! Free entry.  \n\n\n\nNOTE: On these dates\, location is Prince William Commuter Lot (instead of on the museum lawn): June 9\, July 28\, Aug. 4\, Sept. 15.
URL:https://visitmanassas.org/event/nva-thai-street-food-culture-festival/2024-04-21/
LOCATION:Manassas Museum Lawn\, 9101 Prince William St.\, Manassas\, VA\, 20110\, United States
CATEGORIES:Date Night,Educational,Family Friendly,Festival,Live Music & Entertainment,Manassas Museum Event
ATTACH;FMTTYPE=image/jpeg:https://visitmanassas.org/wp-content/uploads/2024/03/Thai-Street-Food-Culture-Festival-2024-April-May-dates.jpg
ORGANIZER;CN="NVA Thai Center":MAILTO:nvathaicenter@gmail.com
END:VEVENT
END:VCALENDAR