BEGIN:VCALENDAR
VERSION:2.0
PRODID:-//City of Manassas Tourism - ECPv6.15.20//NONSGML v1.0//EN
CALSCALE:GREGORIAN
METHOD:PUBLISH
X-WR-CALNAME:City of Manassas Tourism
X-ORIGINAL-URL:https://visitmanassas.org
X-WR-CALDESC:Events for City of Manassas Tourism
REFRESH-INTERVAL;VALUE=DURATION:PT1H
X-Robots-Tag:noindex
X-PUBLISHED-TTL:PT1H
BEGIN:VTIMEZONE
TZID:America/New_York
BEGIN:DAYLIGHT
TZOFFSETFROM:-0500
TZOFFSETTO:-0400
TZNAME:EDT
DTSTART:20230312T070000
END:DAYLIGHT
BEGIN:STANDARD
TZOFFSETFROM:-0400
TZOFFSETTO:-0500
TZNAME:EST
DTSTART:20231105T060000
END:STANDARD
BEGIN:DAYLIGHT
TZOFFSETFROM:-0500
TZOFFSETTO:-0400
TZNAME:EDT
DTSTART:20240310T070000
END:DAYLIGHT
BEGIN:STANDARD
TZOFFSETFROM:-0400
TZOFFSETTO:-0500
TZNAME:EST
DTSTART:20241103T060000
END:STANDARD
BEGIN:DAYLIGHT
TZOFFSETFROM:-0500
TZOFFSETTO:-0400
TZNAME:EDT
DTSTART:20250309T070000
END:DAYLIGHT
BEGIN:STANDARD
TZOFFSETFROM:-0400
TZOFFSETTO:-0500
TZNAME:EST
DTSTART:20251102T060000
END:STANDARD
END:VTIMEZONE
BEGIN:VEVENT
DTSTART;TZID=America/New_York:20240914T180000
DTEND;TZID=America/New_York:20240914T220000
DTSTAMP:20260422T063428
CREATED:20240318T132213Z
LAST-MODIFIED:20240405T124911Z
UID:10000896-1726336800-1726351200@visitmanassas.org
SUMMARY:Battle Street Live
DESCRIPTION:Summer nights come ALIVE in Historic Downtown Manassas with Battle Street Live\, the premier outdoor live music experience where local and national bands perform every Friday & Saturday night in 2024 from May 3 through Oct. 12. Streets close to become a pedestrian paradise in the middle of our historic district.  \n\n\n\nBusinesses that are part of Battle Street Live include Carmello’s/Monza\, Battle Street Bistro\, and Public House Kitchen & Brewery.  (Battle Street Live is located on Battle Street between Center and Church Streets.) \n\n\n\nNOTE: To see the list of bands visit Battle Street Live.
URL:https://visitmanassas.org/event/battle-street-live-3/2024-09-14/
LOCATION:Battle Street\, 9405 Battle Street\, Manassas\, 20110
CATEGORIES:Date Night,Family Friendly,First Friday,Live Music & Entertainment
ATTACH;FMTTYPE=image/jpeg:https://visitmanassas.org/wp-content/uploads/2023/05/Battle-Street-Live-tables-guests-outside-Monza.jpg
ORGANIZER;CN="Battle Street Live":MAILTO:sheila@carmellos.com
END:VEVENT
BEGIN:VEVENT
DTSTART;TZID=America/New_York:20240920T180000
DTEND;TZID=America/New_York:20240920T220000
DTSTAMP:20260422T063428
CREATED:20240318T132213Z
LAST-MODIFIED:20240405T124911Z
UID:10000897-1726855200-1726869600@visitmanassas.org
SUMMARY:Battle Street Live
DESCRIPTION:Summer nights come ALIVE in Historic Downtown Manassas with Battle Street Live\, the premier outdoor live music experience where local and national bands perform every Friday & Saturday night in 2024 from May 3 through Oct. 12. Streets close to become a pedestrian paradise in the middle of our historic district.  \n\n\n\nBusinesses that are part of Battle Street Live include Carmello’s/Monza\, Battle Street Bistro\, and Public House Kitchen & Brewery.  (Battle Street Live is located on Battle Street between Center and Church Streets.) \n\n\n\nNOTE: To see the list of bands visit Battle Street Live.
URL:https://visitmanassas.org/event/battle-street-live-3/2024-09-20/
LOCATION:Battle Street\, 9405 Battle Street\, Manassas\, 20110
CATEGORIES:Date Night,Family Friendly,First Friday,Live Music & Entertainment
ATTACH;FMTTYPE=image/jpeg:https://visitmanassas.org/wp-content/uploads/2023/05/Battle-Street-Live-tables-guests-outside-Monza.jpg
ORGANIZER;CN="Battle Street Live":MAILTO:sheila@carmellos.com
END:VEVENT
BEGIN:VEVENT
DTSTART;TZID=America/New_York:20240921T110000
DTEND;TZID=America/New_York:20240921T180000
DTSTAMP:20260422T063428
CREATED:20231220T182650Z
LAST-MODIFIED:20240906T204250Z
UID:10000665-1726916400-1726941600@visitmanassas.org
SUMMARY:Manassas International Food Festival
DESCRIPTION:Celebrate our cultural melting pot of our region at this annual International Food Festival in Downtown Manassas! Come enjoy Greek\, Ukrainian\, and American food and shop from vendors while listening to a live\, international DJ.
URL:https://visitmanassas.org/event/manassas-international-food-festival-2/
LOCATION:Harris Pavilion\, 9201 Center St\, Manassas\, VA\, 20110\, United States
CATEGORIES:Educational,Family Friendly,Live Music & Entertainment
ATTACH;FMTTYPE=image/jpeg:https://visitmanassas.org/wp-content/uploads/2023/08/International-Food-Festival-at-HP-9-16-23.jpg
ORGANIZER;CN="Nativity of Our Lord Orthodox Church":MAILTO:NOLManassas@gmail.com
GEO:38.7509488;-77.4752667
X-APPLE-STRUCTURED-LOCATION;VALUE=URI;X-ADDRESS=Harris Pavilion 9201 Center St Manassas VA 20110 United States;X-APPLE-RADIUS=500;X-TITLE=9201 Center St:geo:-77.4752667,38.7509488
END:VEVENT
BEGIN:VEVENT
DTSTART;TZID=America/New_York:20240921T180000
DTEND;TZID=America/New_York:20240921T220000
DTSTAMP:20260422T063428
CREATED:20240318T132213Z
LAST-MODIFIED:20240405T124911Z
UID:10000898-1726941600-1726956000@visitmanassas.org
SUMMARY:Battle Street Live
DESCRIPTION:Summer nights come ALIVE in Historic Downtown Manassas with Battle Street Live\, the premier outdoor live music experience where local and national bands perform every Friday & Saturday night in 2024 from May 3 through Oct. 12. Streets close to become a pedestrian paradise in the middle of our historic district.  \n\n\n\nBusinesses that are part of Battle Street Live include Carmello’s/Monza\, Battle Street Bistro\, and Public House Kitchen & Brewery.  (Battle Street Live is located on Battle Street between Center and Church Streets.) \n\n\n\nNOTE: To see the list of bands visit Battle Street Live.
URL:https://visitmanassas.org/event/battle-street-live-3/2024-09-21/
LOCATION:Battle Street\, 9405 Battle Street\, Manassas\, 20110
CATEGORIES:Date Night,Family Friendly,First Friday,Live Music & Entertainment
ATTACH;FMTTYPE=image/jpeg:https://visitmanassas.org/wp-content/uploads/2023/05/Battle-Street-Live-tables-guests-outside-Monza.jpg
ORGANIZER;CN="Battle Street Live":MAILTO:sheila@carmellos.com
END:VEVENT
BEGIN:VEVENT
DTSTART;TZID=America/New_York:20240927T180000
DTEND;TZID=America/New_York:20240927T220000
DTSTAMP:20260422T063428
CREATED:20240318T132213Z
LAST-MODIFIED:20240405T124911Z
UID:10000899-1727460000-1727474400@visitmanassas.org
SUMMARY:Battle Street Live
DESCRIPTION:Summer nights come ALIVE in Historic Downtown Manassas with Battle Street Live\, the premier outdoor live music experience where local and national bands perform every Friday & Saturday night in 2024 from May 3 through Oct. 12. Streets close to become a pedestrian paradise in the middle of our historic district.  \n\n\n\nBusinesses that are part of Battle Street Live include Carmello’s/Monza\, Battle Street Bistro\, and Public House Kitchen & Brewery.  (Battle Street Live is located on Battle Street between Center and Church Streets.) \n\n\n\nNOTE: To see the list of bands visit Battle Street Live.
URL:https://visitmanassas.org/event/battle-street-live-3/2024-09-27/
LOCATION:Battle Street\, 9405 Battle Street\, Manassas\, 20110
CATEGORIES:Date Night,Family Friendly,First Friday,Live Music & Entertainment
ATTACH;FMTTYPE=image/jpeg:https://visitmanassas.org/wp-content/uploads/2023/05/Battle-Street-Live-tables-guests-outside-Monza.jpg
ORGANIZER;CN="Battle Street Live":MAILTO:sheila@carmellos.com
END:VEVENT
BEGIN:VEVENT
DTSTART;TZID=America/New_York:20240928T180000
DTEND;TZID=America/New_York:20240928T220000
DTSTAMP:20260422T063428
CREATED:20240318T132213Z
LAST-MODIFIED:20240405T124911Z
UID:10000900-1727546400-1727560800@visitmanassas.org
SUMMARY:Battle Street Live
DESCRIPTION:Summer nights come ALIVE in Historic Downtown Manassas with Battle Street Live\, the premier outdoor live music experience where local and national bands perform every Friday & Saturday night in 2024 from May 3 through Oct. 12. Streets close to become a pedestrian paradise in the middle of our historic district.  \n\n\n\nBusinesses that are part of Battle Street Live include Carmello’s/Monza\, Battle Street Bistro\, and Public House Kitchen & Brewery.  (Battle Street Live is located on Battle Street between Center and Church Streets.) \n\n\n\nNOTE: To see the list of bands visit Battle Street Live.
URL:https://visitmanassas.org/event/battle-street-live-3/2024-09-28/
LOCATION:Battle Street\, 9405 Battle Street\, Manassas\, 20110
CATEGORIES:Date Night,Family Friendly,First Friday,Live Music & Entertainment
ATTACH;FMTTYPE=image/jpeg:https://visitmanassas.org/wp-content/uploads/2023/05/Battle-Street-Live-tables-guests-outside-Monza.jpg
ORGANIZER;CN="Battle Street Live":MAILTO:sheila@carmellos.com
END:VEVENT
BEGIN:VEVENT
DTSTART;TZID=America/New_York:20241004T180000
DTEND;TZID=America/New_York:20241004T220000
DTSTAMP:20260422T063428
CREATED:20240318T132213Z
LAST-MODIFIED:20240405T124911Z
UID:10000901-1728064800-1728079200@visitmanassas.org
SUMMARY:Battle Street Live
DESCRIPTION:Summer nights come ALIVE in Historic Downtown Manassas with Battle Street Live\, the premier outdoor live music experience where local and national bands perform every Friday & Saturday night in 2024 from May 3 through Oct. 12. Streets close to become a pedestrian paradise in the middle of our historic district.  \n\n\n\nBusinesses that are part of Battle Street Live include Carmello’s/Monza\, Battle Street Bistro\, and Public House Kitchen & Brewery.  (Battle Street Live is located on Battle Street between Center and Church Streets.) \n\n\n\nNOTE: To see the list of bands visit Battle Street Live.
URL:https://visitmanassas.org/event/battle-street-live-3/2024-10-04/
LOCATION:Battle Street\, 9405 Battle Street\, Manassas\, 20110
CATEGORIES:Date Night,Family Friendly,First Friday,Live Music & Entertainment
ATTACH;FMTTYPE=image/jpeg:https://visitmanassas.org/wp-content/uploads/2023/05/Battle-Street-Live-tables-guests-outside-Monza.jpg
ORGANIZER;CN="Battle Street Live":MAILTO:sheila@carmellos.com
END:VEVENT
BEGIN:VEVENT
DTSTART;TZID=America/New_York:20241005T180000
DTEND;TZID=America/New_York:20241005T220000
DTSTAMP:20260422T063428
CREATED:20240318T132213Z
LAST-MODIFIED:20240405T124911Z
UID:10000902-1728151200-1728165600@visitmanassas.org
SUMMARY:Battle Street Live
DESCRIPTION:Summer nights come ALIVE in Historic Downtown Manassas with Battle Street Live\, the premier outdoor live music experience where local and national bands perform every Friday & Saturday night in 2024 from May 3 through Oct. 12. Streets close to become a pedestrian paradise in the middle of our historic district.  \n\n\n\nBusinesses that are part of Battle Street Live include Carmello’s/Monza\, Battle Street Bistro\, and Public House Kitchen & Brewery.  (Battle Street Live is located on Battle Street between Center and Church Streets.) \n\n\n\nNOTE: To see the list of bands visit Battle Street Live.
URL:https://visitmanassas.org/event/battle-street-live-3/2024-10-05/
LOCATION:Battle Street\, 9405 Battle Street\, Manassas\, 20110
CATEGORIES:Date Night,Family Friendly,First Friday,Live Music & Entertainment
ATTACH;FMTTYPE=image/jpeg:https://visitmanassas.org/wp-content/uploads/2023/05/Battle-Street-Live-tables-guests-outside-Monza.jpg
ORGANIZER;CN="Battle Street Live":MAILTO:sheila@carmellos.com
END:VEVENT
BEGIN:VEVENT
DTSTART;TZID=America/New_York:20241011T180000
DTEND;TZID=America/New_York:20241011T220000
DTSTAMP:20260422T063428
CREATED:20240318T132213Z
LAST-MODIFIED:20240405T124911Z
UID:10000903-1728669600-1728684000@visitmanassas.org
SUMMARY:Battle Street Live
DESCRIPTION:Summer nights come ALIVE in Historic Downtown Manassas with Battle Street Live\, the premier outdoor live music experience where local and national bands perform every Friday & Saturday night in 2024 from May 3 through Oct. 12. Streets close to become a pedestrian paradise in the middle of our historic district.  \n\n\n\nBusinesses that are part of Battle Street Live include Carmello’s/Monza\, Battle Street Bistro\, and Public House Kitchen & Brewery.  (Battle Street Live is located on Battle Street between Center and Church Streets.) \n\n\n\nNOTE: To see the list of bands visit Battle Street Live.
URL:https://visitmanassas.org/event/battle-street-live-3/2024-10-11/
LOCATION:Battle Street\, 9405 Battle Street\, Manassas\, 20110
CATEGORIES:Date Night,Family Friendly,First Friday,Live Music & Entertainment
ATTACH;FMTTYPE=image/jpeg:https://visitmanassas.org/wp-content/uploads/2023/05/Battle-Street-Live-tables-guests-outside-Monza.jpg
ORGANIZER;CN="Battle Street Live":MAILTO:sheila@carmellos.com
END:VEVENT
BEGIN:VEVENT
DTSTART;TZID=America/New_York:20241012T180000
DTEND;TZID=America/New_York:20241012T220000
DTSTAMP:20260422T063428
CREATED:20240318T132213Z
LAST-MODIFIED:20240405T124911Z
UID:10000904-1728756000-1728770400@visitmanassas.org
SUMMARY:Battle Street Live
DESCRIPTION:Summer nights come ALIVE in Historic Downtown Manassas with Battle Street Live\, the premier outdoor live music experience where local and national bands perform every Friday & Saturday night in 2024 from May 3 through Oct. 12. Streets close to become a pedestrian paradise in the middle of our historic district.  \n\n\n\nBusinesses that are part of Battle Street Live include Carmello’s/Monza\, Battle Street Bistro\, and Public House Kitchen & Brewery.  (Battle Street Live is located on Battle Street between Center and Church Streets.) \n\n\n\nNOTE: To see the list of bands visit Battle Street Live.
URL:https://visitmanassas.org/event/battle-street-live-3/2024-10-12/
LOCATION:Battle Street\, 9405 Battle Street\, Manassas\, 20110
CATEGORIES:Date Night,Family Friendly,First Friday,Live Music & Entertainment
ATTACH;FMTTYPE=image/jpeg:https://visitmanassas.org/wp-content/uploads/2023/05/Battle-Street-Live-tables-guests-outside-Monza.jpg
ORGANIZER;CN="Battle Street Live":MAILTO:sheila@carmellos.com
END:VEVENT
BEGIN:VEVENT
DTSTART;TZID=America/New_York:20241026T120000
DTEND;TZID=America/New_York:20241026T170000
DTSTAMP:20260422T063428
CREATED:20230418T132925Z
LAST-MODIFIED:20240515T205527Z
UID:10000573-1729944000-1729962000@visitmanassas.org
SUMMARY:Old Town Manassas Holiday Crafts & Treats Fair
DESCRIPTION:With Halloween days away\, come to Downtown Manassas for the Kids Costume Parade\, holidays arts & crafts\, desserts and treats\, plus a Pets Costume Parade! An afternoon full of fun for the whole family. Start the holiday shopping early and check out all the arts & crafts vendors!
URL:https://visitmanassas.org/event/old-town-manassas-holiday-crafts-treats-fair-2/
LOCATION:Manassas Museum Lawn\, 9101 Prince William St.\, Manassas\, VA\, 20110\, United States
CATEGORIES:Family Friendly,Halloween,Manassas Museum Event
ATTACH;FMTTYPE=image/jpeg:https://visitmanassas.org/wp-content/uploads/2024/05/Old-Town-Manassas-Holiday-Crafts-Treats-Fair-10-26-24.jpg
ORGANIZER;CN="Chic Events DC":MAILTO:ArtsAndCrafts@Royal-EventsPlanning.com
END:VEVENT
BEGIN:VEVENT
DTSTART;TZID=America/New_York:20241109T100000
DTEND;TZID=America/New_York:20241109T130000
DTSTAMP:20260422T063428
CREATED:20240912T160043Z
LAST-MODIFIED:20240912T160306Z
UID:10000939-1731146400-1731157200@visitmanassas.org
SUMMARY:Zach's Pack 5K Fun Run & Walk
DESCRIPTION:This year's 5th annual Zach's Pack 5K Fun Run & Walk is planned to raise awareness and funds to support the Sarcoma Foundation's research efforts\, as well as providing crucial assistance to individuals and families affected by cancer. This event addresses the challenges faced by those battling cancer with proceeds going towards medical expenses\, living costs\, and other essential needs. Join us in making a meaningful impact in the fight against cancer and supporting those who need it most!
URL:https://visitmanassas.org/event/zachs-pack-5k-fun-run-walk/
LOCATION:Manassas Museum Lawn\, 9101 Prince William St.\, Manassas\, VA\, 20110\, United States
CATEGORIES:Educational,Family Friendly
ATTACH;FMTTYPE=image/png:https://visitmanassas.org/wp-content/uploads/2024/08/Zachs-Pack-5K-11-9-24.png
ORGANIZER;CN="Zach's Pack":MAILTO:zachspackorg@gmail.com
END:VEVENT
BEGIN:VEVENT
DTSTART;TZID=America/New_York:20241117T100000
DTEND;TZID=America/New_York:20241117T160000
DTSTAMP:20260422T063428
CREATED:20241107T184240Z
LAST-MODIFIED:20241107T184241Z
UID:10003046-1731837600-1731859200@visitmanassas.org
SUMMARY:NVA Thai Street Food & Culture Festival
DESCRIPTION:Spend Sundays enjoying authentic Thai street food on the Manassas Museum Lawn April 7\, April 21\, May 5\, May 26\, June 9\, June 23\, July 14\, July 28\, Aug. 4\, Aug. 18\, Sept. 8\, Sept. 15\, Oct. 6\, Oct. 13\, Nov. 17\, and Nov. 24! To pair with these authentic Thai street eats\, there will be live music\, Thai dance\, crafts\, and more! Free entry. \n\n\n\nNOTE: On these dates\, June 9\, July 28\, Aug. 4\, Sept. 15\, and Oct. 6\, the location is at the Prince William Street Commuter Lot (9024 Prince William Street) instead of on the museum lawn.
URL:https://visitmanassas.org/event/nva-thai-street-food-culture-festival-12/
LOCATION:Manassas Museum Lawn\, 9101 Prince William St.\, Manassas\, VA\, 20110\, United States
CATEGORIES:Educational,Family Friendly,Festival,Live Music & Entertainment,Manassas Museum Event
ATTACH;FMTTYPE=image/jpeg:https://visitmanassas.org/wp-content/uploads/2024/03/Thai-Street-Food-Culture-Festival-2024-April-May-dates.jpg
ORGANIZER;CN="NVA Thai Center":MAILTO:nvathaicenter@gmail.com
END:VEVENT
BEGIN:VEVENT
DTSTART;TZID=America/New_York:20241124T100000
DTEND;TZID=America/New_York:20241124T160000
DTSTAMP:20260422T063428
CREATED:20240903T143710Z
LAST-MODIFIED:20240903T145832Z
UID:10000931-1732442400-1732464000@visitmanassas.org
SUMMARY:NVA Thai Street Food & Culture Festival
DESCRIPTION:Spend Sundays enjoying authentic Thai street food on the Manassas Museum Lawn April 7\, April 21\, May 5\, May 26\, June 9\, June 23\, July 14\, July 28\, Aug. 4\, Aug. 18\, Sept. 8\, Sept. 15\, Oct. 6\, Oct. 13\, Nov. 17\, and Nov. 24! To pair with these authentic Thai street eats\, there will be live music\, Thai dance\, crafts\, and more! Free entry. \n\n\n\nNOTE: On these dates\, June 9\, July 28\, Aug. 4\, Sept. 15\, and Oct. 6\, the location is at the Prince William Street Commuter Lot (9024 Prince William Street) instead of on the museum lawn.
URL:https://visitmanassas.org/event/nva-thai-street-food-culture-festival-3/
LOCATION:Manassas Museum Lawn\, 9101 Prince William St.\, Manassas\, VA\, 20110\, United States
CATEGORIES:Date Night,Educational,Family Friendly,Festival,Live Music & Entertainment,Manassas Museum Event
ATTACH;FMTTYPE=image/jpeg:https://visitmanassas.org/wp-content/uploads/2024/03/Thai-Street-Food-Culture-Festival-2024-April-May-dates.jpg
ORGANIZER;CN="NVA Thai Center":MAILTO:nvathaicenter@gmail.com
END:VEVENT
END:VCALENDAR