BEGIN:VCALENDAR
VERSION:2.0
PRODID:-//City of Manassas Tourism - ECPv6.15.20//NONSGML v1.0//EN
CALSCALE:GREGORIAN
METHOD:PUBLISH
X-WR-CALNAME:City of Manassas Tourism
X-ORIGINAL-URL:https://visitmanassas.org
X-WR-CALDESC:Events for City of Manassas Tourism
REFRESH-INTERVAL;VALUE=DURATION:PT1H
X-Robots-Tag:noindex
X-PUBLISHED-TTL:PT1H
BEGIN:VTIMEZONE
TZID:America/New_York
BEGIN:DAYLIGHT
TZOFFSETFROM:-0500
TZOFFSETTO:-0400
TZNAME:EDT
DTSTART:20230312T070000
END:DAYLIGHT
BEGIN:STANDARD
TZOFFSETFROM:-0400
TZOFFSETTO:-0500
TZNAME:EST
DTSTART:20231105T060000
END:STANDARD
BEGIN:DAYLIGHT
TZOFFSETFROM:-0500
TZOFFSETTO:-0400
TZNAME:EDT
DTSTART:20240310T070000
END:DAYLIGHT
BEGIN:STANDARD
TZOFFSETFROM:-0400
TZOFFSETTO:-0500
TZNAME:EST
DTSTART:20241103T060000
END:STANDARD
BEGIN:DAYLIGHT
TZOFFSETFROM:-0500
TZOFFSETTO:-0400
TZNAME:EDT
DTSTART:20250309T070000
END:DAYLIGHT
BEGIN:STANDARD
TZOFFSETFROM:-0400
TZOFFSETTO:-0500
TZNAME:EST
DTSTART:20251102T060000
END:STANDARD
END:VTIMEZONE
BEGIN:VEVENT
DTSTART;TZID=America/New_York:20240726T180000
DTEND;TZID=America/New_York:20240726T220000
DTSTAMP:20260421T223527
CREATED:20240318T132213Z
LAST-MODIFIED:20240405T124911Z
UID:10000881-1722016800-1722031200@visitmanassas.org
SUMMARY:Battle Street Live
DESCRIPTION:Summer nights come ALIVE in Historic Downtown Manassas with Battle Street Live\, the premier outdoor live music experience where local and national bands perform every Friday & Saturday night in 2024 from May 3 through Oct. 12. Streets close to become a pedestrian paradise in the middle of our historic district.  \n\n\n\nBusinesses that are part of Battle Street Live include Carmello’s/Monza\, Battle Street Bistro\, and Public House Kitchen & Brewery.  (Battle Street Live is located on Battle Street between Center and Church Streets.) \n\n\n\nNOTE: To see the list of bands visit Battle Street Live.
URL:https://visitmanassas.org/event/battle-street-live-3/2024-07-26/
LOCATION:Battle Street\, 9405 Battle Street\, Manassas\, 20110
CATEGORIES:Date Night,Family Friendly,First Friday,Live Music & Entertainment
ATTACH;FMTTYPE=image/jpeg:https://visitmanassas.org/wp-content/uploads/2023/05/Battle-Street-Live-tables-guests-outside-Monza.jpg
ORGANIZER;CN="Battle Street Live":MAILTO:sheila@carmellos.com
END:VEVENT
BEGIN:VEVENT
DTSTART;TZID=America/New_York:20240727T160000
DTEND;TZID=America/New_York:20240727T230000
DTSTAMP:20260421T223527
CREATED:20240611T144414Z
LAST-MODIFIED:20240701T195022Z
UID:10000934-1722096000-1722121200@visitmanassas.org
SUMMARY:Tequila Taco Festival
DESCRIPTION:Get ready for the hottest party in Historic Downtown! Get your taste buds ready to experience over 40 tequilas paired with authentic Mexican street food as this Tequila Taco Festival returns for the fourth time to Battle Street. Get ready for live music\, dancing\, DJ\, plus mechanical bull rides! Click HERE for Tequila Taco Festival 4 tickets.
URL:https://visitmanassas.org/event/tequila-taco-festival/
LOCATION:Mariachis Tequileria & Restaurant\, 9428 Battle Street\, Manassas\, VA
CATEGORIES:Date Night,Family Friendly,Festival,Live Music & Entertainment
ATTACH;FMTTYPE=image/png:https://visitmanassas.org/wp-content/uploads/2024/06/Tequila-Taco-Festival-at-Mariachis-7-27-24.png
ORGANIZER;CN="Mariachis Tequileria & Restaurant":MAILTO:info@mariachimanassas.com
END:VEVENT
BEGIN:VEVENT
DTSTART;TZID=America/New_York:20240727T180000
DTEND;TZID=America/New_York:20240727T220000
DTSTAMP:20260421T223527
CREATED:20240318T132213Z
LAST-MODIFIED:20240405T124911Z
UID:10000882-1722103200-1722117600@visitmanassas.org
SUMMARY:Battle Street Live
DESCRIPTION:Summer nights come ALIVE in Historic Downtown Manassas with Battle Street Live\, the premier outdoor live music experience where local and national bands perform every Friday & Saturday night in 2024 from May 3 through Oct. 12. Streets close to become a pedestrian paradise in the middle of our historic district.  \n\n\n\nBusinesses that are part of Battle Street Live include Carmello’s/Monza\, Battle Street Bistro\, and Public House Kitchen & Brewery.  (Battle Street Live is located on Battle Street between Center and Church Streets.) \n\n\n\nNOTE: To see the list of bands visit Battle Street Live.
URL:https://visitmanassas.org/event/battle-street-live-3/2024-07-27/
LOCATION:Battle Street\, 9405 Battle Street\, Manassas\, 20110
CATEGORIES:Date Night,Family Friendly,First Friday,Live Music & Entertainment
ATTACH;FMTTYPE=image/jpeg:https://visitmanassas.org/wp-content/uploads/2023/05/Battle-Street-Live-tables-guests-outside-Monza.jpg
ORGANIZER;CN="Battle Street Live":MAILTO:sheila@carmellos.com
END:VEVENT
END:VCALENDAR