BEGIN:VCALENDAR
VERSION:2.0
PRODID:-//City of Manassas Tourism - ECPv6.15.20//NONSGML v1.0//EN
CALSCALE:GREGORIAN
METHOD:PUBLISH
X-WR-CALNAME:City of Manassas Tourism
X-ORIGINAL-URL:https://visitmanassas.org
X-WR-CALDESC:Events for City of Manassas Tourism
REFRESH-INTERVAL;VALUE=DURATION:PT1H
X-Robots-Tag:noindex
X-PUBLISHED-TTL:PT1H
BEGIN:VTIMEZONE
TZID:America/New_York
BEGIN:DAYLIGHT
TZOFFSETFROM:-0500
TZOFFSETTO:-0400
TZNAME:EDT
DTSTART:20230312T070000
END:DAYLIGHT
BEGIN:STANDARD
TZOFFSETFROM:-0400
TZOFFSETTO:-0500
TZNAME:EST
DTSTART:20231105T060000
END:STANDARD
BEGIN:DAYLIGHT
TZOFFSETFROM:-0500
TZOFFSETTO:-0400
TZNAME:EDT
DTSTART:20240310T070000
END:DAYLIGHT
BEGIN:STANDARD
TZOFFSETFROM:-0400
TZOFFSETTO:-0500
TZNAME:EST
DTSTART:20241103T060000
END:STANDARD
BEGIN:DAYLIGHT
TZOFFSETFROM:-0500
TZOFFSETTO:-0400
TZNAME:EDT
DTSTART:20250309T070000
END:DAYLIGHT
BEGIN:STANDARD
TZOFFSETFROM:-0400
TZOFFSETTO:-0500
TZNAME:EST
DTSTART:20251102T060000
END:STANDARD
END:VTIMEZONE
BEGIN:VEVENT
DTSTART;TZID=America/New_York:20240525T180000
DTEND;TZID=America/New_York:20240525T220000
DTSTAMP:20260421T185727
CREATED:20240318T132213Z
LAST-MODIFIED:20240405T124911Z
UID:10000864-1716660000-1716674400@visitmanassas.org
SUMMARY:Battle Street Live
DESCRIPTION:Summer nights come ALIVE in Historic Downtown Manassas with Battle Street Live\, the premier outdoor live music experience where local and national bands perform every Friday & Saturday night in 2024 from May 3 through Oct. 12. Streets close to become a pedestrian paradise in the middle of our historic district.  \n\n\n\nBusinesses that are part of Battle Street Live include Carmello’s/Monza\, Battle Street Bistro\, and Public House Kitchen & Brewery.  (Battle Street Live is located on Battle Street between Center and Church Streets.) \n\n\n\nNOTE: To see the list of bands visit Battle Street Live.
URL:https://visitmanassas.org/event/battle-street-live-3/2024-05-25/
LOCATION:Battle Street\, 9405 Battle Street\, Manassas\, 20110
CATEGORIES:Date Night,Family Friendly,First Friday,Live Music & Entertainment
ATTACH;FMTTYPE=image/jpeg:https://visitmanassas.org/wp-content/uploads/2023/05/Battle-Street-Live-tables-guests-outside-Monza.jpg
ORGANIZER;CN="Battle Street Live":MAILTO:sheila@carmellos.com
END:VEVENT
BEGIN:VEVENT
DTSTART;TZID=America/New_York:20240531T180000
DTEND;TZID=America/New_York:20240531T220000
DTSTAMP:20260421T185727
CREATED:20240318T132213Z
LAST-MODIFIED:20240405T124911Z
UID:10000865-1717178400-1717192800@visitmanassas.org
SUMMARY:Battle Street Live
DESCRIPTION:Summer nights come ALIVE in Historic Downtown Manassas with Battle Street Live\, the premier outdoor live music experience where local and national bands perform every Friday & Saturday night in 2024 from May 3 through Oct. 12. Streets close to become a pedestrian paradise in the middle of our historic district.  \n\n\n\nBusinesses that are part of Battle Street Live include Carmello’s/Monza\, Battle Street Bistro\, and Public House Kitchen & Brewery.  (Battle Street Live is located on Battle Street between Center and Church Streets.) \n\n\n\nNOTE: To see the list of bands visit Battle Street Live.
URL:https://visitmanassas.org/event/battle-street-live-3/2024-05-31/
LOCATION:Battle Street\, 9405 Battle Street\, Manassas\, 20110
CATEGORIES:Date Night,Family Friendly,First Friday,Live Music & Entertainment
ATTACH;FMTTYPE=image/jpeg:https://visitmanassas.org/wp-content/uploads/2023/05/Battle-Street-Live-tables-guests-outside-Monza.jpg
ORGANIZER;CN="Battle Street Live":MAILTO:sheila@carmellos.com
END:VEVENT
BEGIN:VEVENT
DTSTART;TZID=America/New_York:20240601T180000
DTEND;TZID=America/New_York:20240601T220000
DTSTAMP:20260421T185727
CREATED:20240318T132213Z
LAST-MODIFIED:20240405T124911Z
UID:10000866-1717264800-1717279200@visitmanassas.org
SUMMARY:Battle Street Live
DESCRIPTION:Summer nights come ALIVE in Historic Downtown Manassas with Battle Street Live\, the premier outdoor live music experience where local and national bands perform every Friday & Saturday night in 2024 from May 3 through Oct. 12. Streets close to become a pedestrian paradise in the middle of our historic district.  \n\n\n\nBusinesses that are part of Battle Street Live include Carmello’s/Monza\, Battle Street Bistro\, and Public House Kitchen & Brewery.  (Battle Street Live is located on Battle Street between Center and Church Streets.) \n\n\n\nNOTE: To see the list of bands visit Battle Street Live.
URL:https://visitmanassas.org/event/battle-street-live-3/2024-06-01/
LOCATION:Battle Street\, 9405 Battle Street\, Manassas\, 20110
CATEGORIES:Date Night,Family Friendly,First Friday,Live Music & Entertainment
ATTACH;FMTTYPE=image/jpeg:https://visitmanassas.org/wp-content/uploads/2023/05/Battle-Street-Live-tables-guests-outside-Monza.jpg
ORGANIZER;CN="Battle Street Live":MAILTO:sheila@carmellos.com
END:VEVENT
BEGIN:VEVENT
DTSTART;TZID=America/New_York:20240607T180000
DTEND;TZID=America/New_York:20240607T220000
DTSTAMP:20260421T185727
CREATED:20240318T132213Z
LAST-MODIFIED:20240405T124911Z
UID:10000867-1717783200-1717797600@visitmanassas.org
SUMMARY:Battle Street Live
DESCRIPTION:Summer nights come ALIVE in Historic Downtown Manassas with Battle Street Live\, the premier outdoor live music experience where local and national bands perform every Friday & Saturday night in 2024 from May 3 through Oct. 12. Streets close to become a pedestrian paradise in the middle of our historic district.  \n\n\n\nBusinesses that are part of Battle Street Live include Carmello’s/Monza\, Battle Street Bistro\, and Public House Kitchen & Brewery.  (Battle Street Live is located on Battle Street between Center and Church Streets.) \n\n\n\nNOTE: To see the list of bands visit Battle Street Live.
URL:https://visitmanassas.org/event/battle-street-live-3/2024-06-07/
LOCATION:Battle Street\, 9405 Battle Street\, Manassas\, 20110
CATEGORIES:Date Night,Family Friendly,First Friday,Live Music & Entertainment
ATTACH;FMTTYPE=image/jpeg:https://visitmanassas.org/wp-content/uploads/2023/05/Battle-Street-Live-tables-guests-outside-Monza.jpg
ORGANIZER;CN="Battle Street Live":MAILTO:sheila@carmellos.com
END:VEVENT
BEGIN:VEVENT
DTSTART;TZID=America/New_York:20240608T180000
DTEND;TZID=America/New_York:20240608T220000
DTSTAMP:20260421T185727
CREATED:20240318T132213Z
LAST-MODIFIED:20240405T124911Z
UID:10000868-1717869600-1717884000@visitmanassas.org
SUMMARY:Battle Street Live
DESCRIPTION:Summer nights come ALIVE in Historic Downtown Manassas with Battle Street Live\, the premier outdoor live music experience where local and national bands perform every Friday & Saturday night in 2024 from May 3 through Oct. 12. Streets close to become a pedestrian paradise in the middle of our historic district.  \n\n\n\nBusinesses that are part of Battle Street Live include Carmello’s/Monza\, Battle Street Bistro\, and Public House Kitchen & Brewery.  (Battle Street Live is located on Battle Street between Center and Church Streets.) \n\n\n\nNOTE: To see the list of bands visit Battle Street Live.
URL:https://visitmanassas.org/event/battle-street-live-3/2024-06-08/
LOCATION:Battle Street\, 9405 Battle Street\, Manassas\, 20110
CATEGORIES:Date Night,Family Friendly,First Friday,Live Music & Entertainment
ATTACH;FMTTYPE=image/jpeg:https://visitmanassas.org/wp-content/uploads/2023/05/Battle-Street-Live-tables-guests-outside-Monza.jpg
ORGANIZER;CN="Battle Street Live":MAILTO:sheila@carmellos.com
END:VEVENT
BEGIN:VEVENT
DTSTART;TZID=America/New_York:20240614T180000
DTEND;TZID=America/New_York:20240614T220000
DTSTAMP:20260421T185727
CREATED:20240318T132213Z
LAST-MODIFIED:20240405T124911Z
UID:10000869-1718388000-1718402400@visitmanassas.org
SUMMARY:Battle Street Live
DESCRIPTION:Summer nights come ALIVE in Historic Downtown Manassas with Battle Street Live\, the premier outdoor live music experience where local and national bands perform every Friday & Saturday night in 2024 from May 3 through Oct. 12. Streets close to become a pedestrian paradise in the middle of our historic district.  \n\n\n\nBusinesses that are part of Battle Street Live include Carmello’s/Monza\, Battle Street Bistro\, and Public House Kitchen & Brewery.  (Battle Street Live is located on Battle Street between Center and Church Streets.) \n\n\n\nNOTE: To see the list of bands visit Battle Street Live.
URL:https://visitmanassas.org/event/battle-street-live-3/2024-06-14/
LOCATION:Battle Street\, 9405 Battle Street\, Manassas\, 20110
CATEGORIES:Date Night,Family Friendly,First Friday,Live Music & Entertainment
ATTACH;FMTTYPE=image/jpeg:https://visitmanassas.org/wp-content/uploads/2023/05/Battle-Street-Live-tables-guests-outside-Monza.jpg
ORGANIZER;CN="Battle Street Live":MAILTO:sheila@carmellos.com
END:VEVENT
BEGIN:VEVENT
DTSTART;TZID=America/New_York:20240615T180000
DTEND;TZID=America/New_York:20240615T220000
DTSTAMP:20260421T185727
CREATED:20240318T132213Z
LAST-MODIFIED:20240405T124911Z
UID:10000870-1718474400-1718488800@visitmanassas.org
SUMMARY:Battle Street Live
DESCRIPTION:Summer nights come ALIVE in Historic Downtown Manassas with Battle Street Live\, the premier outdoor live music experience where local and national bands perform every Friday & Saturday night in 2024 from May 3 through Oct. 12. Streets close to become a pedestrian paradise in the middle of our historic district.  \n\n\n\nBusinesses that are part of Battle Street Live include Carmello’s/Monza\, Battle Street Bistro\, and Public House Kitchen & Brewery.  (Battle Street Live is located on Battle Street between Center and Church Streets.) \n\n\n\nNOTE: To see the list of bands visit Battle Street Live.
URL:https://visitmanassas.org/event/battle-street-live-3/2024-06-15/
LOCATION:Battle Street\, 9405 Battle Street\, Manassas\, 20110
CATEGORIES:Date Night,Family Friendly,First Friday,Live Music & Entertainment
ATTACH;FMTTYPE=image/jpeg:https://visitmanassas.org/wp-content/uploads/2023/05/Battle-Street-Live-tables-guests-outside-Monza.jpg
ORGANIZER;CN="Battle Street Live":MAILTO:sheila@carmellos.com
END:VEVENT
BEGIN:VEVENT
DTSTART;TZID=America/New_York:20240620T100000
DTEND;TZID=America/New_York:20240620T140000
DTSTAMP:20260421T185727
CREATED:20240613T160629Z
LAST-MODIFIED:20240613T164426Z
UID:10000935-1718877600-1718892000@visitmanassas.org
SUMMARY:ADA (Americans with Disabilities Act) Fair
DESCRIPTION:Come out to Historic Downtown Manassas for this health informational fair to celebrate the signing of the Americans with Disability Act of 1990 and our 25 years of service.
URL:https://visitmanassas.org/event/ada-americans-with-disabilities-act-fair/2024-06-20/
LOCATION:Harris Pavilion\, 9201 Center St\, Manassas\, VA\, 20110\, United States
CATEGORIES:Educational,Family Friendly
ATTACH;FMTTYPE=image/jpeg:https://visitmanassas.org/wp-content/uploads/2024/06/ADA-Fair-Independence-Empowerment-Center-7-20-24.jpg
ORGANIZER;CN="Independence Empowerment Center":MAILTO:info@ieccil.org
GEO:38.7509488;-77.4752667
X-APPLE-STRUCTURED-LOCATION;VALUE=URI;X-ADDRESS=Harris Pavilion 9201 Center St Manassas VA 20110 United States;X-APPLE-RADIUS=500;X-TITLE=9201 Center St:geo:-77.4752667,38.7509488
END:VEVENT
BEGIN:VEVENT
DTSTART;TZID=America/New_York:20240621T180000
DTEND;TZID=America/New_York:20240621T220000
DTSTAMP:20260421T185727
CREATED:20240318T132213Z
LAST-MODIFIED:20240405T124911Z
UID:10000871-1718992800-1719007200@visitmanassas.org
SUMMARY:Battle Street Live
DESCRIPTION:Summer nights come ALIVE in Historic Downtown Manassas with Battle Street Live\, the premier outdoor live music experience where local and national bands perform every Friday & Saturday night in 2024 from May 3 through Oct. 12. Streets close to become a pedestrian paradise in the middle of our historic district.  \n\n\n\nBusinesses that are part of Battle Street Live include Carmello’s/Monza\, Battle Street Bistro\, and Public House Kitchen & Brewery.  (Battle Street Live is located on Battle Street between Center and Church Streets.) \n\n\n\nNOTE: To see the list of bands visit Battle Street Live.
URL:https://visitmanassas.org/event/battle-street-live-3/2024-06-21/
LOCATION:Battle Street\, 9405 Battle Street\, Manassas\, 20110
CATEGORIES:Date Night,Family Friendly,First Friday,Live Music & Entertainment
ATTACH;FMTTYPE=image/jpeg:https://visitmanassas.org/wp-content/uploads/2023/05/Battle-Street-Live-tables-guests-outside-Monza.jpg
ORGANIZER;CN="Battle Street Live":MAILTO:sheila@carmellos.com
END:VEVENT
BEGIN:VEVENT
DTSTART;TZID=America/New_York:20240622T180000
DTEND;TZID=America/New_York:20240622T220000
DTSTAMP:20260421T185728
CREATED:20240318T132213Z
LAST-MODIFIED:20240405T124911Z
UID:10000872-1719079200-1719093600@visitmanassas.org
SUMMARY:Battle Street Live
DESCRIPTION:Summer nights come ALIVE in Historic Downtown Manassas with Battle Street Live\, the premier outdoor live music experience where local and national bands perform every Friday & Saturday night in 2024 from May 3 through Oct. 12. Streets close to become a pedestrian paradise in the middle of our historic district.  \n\n\n\nBusinesses that are part of Battle Street Live include Carmello’s/Monza\, Battle Street Bistro\, and Public House Kitchen & Brewery.  (Battle Street Live is located on Battle Street between Center and Church Streets.) \n\n\n\nNOTE: To see the list of bands visit Battle Street Live.
URL:https://visitmanassas.org/event/battle-street-live-3/2024-06-22/
LOCATION:Battle Street\, 9405 Battle Street\, Manassas\, 20110
CATEGORIES:Date Night,Family Friendly,First Friday,Live Music & Entertainment
ATTACH;FMTTYPE=image/jpeg:https://visitmanassas.org/wp-content/uploads/2023/05/Battle-Street-Live-tables-guests-outside-Monza.jpg
ORGANIZER;CN="Battle Street Live":MAILTO:sheila@carmellos.com
END:VEVENT
BEGIN:VEVENT
DTSTART;TZID=America/New_York:20240628T180000
DTEND;TZID=America/New_York:20240628T220000
DTSTAMP:20260421T185728
CREATED:20240318T132213Z
LAST-MODIFIED:20240405T124911Z
UID:10000873-1719597600-1719612000@visitmanassas.org
SUMMARY:Battle Street Live
DESCRIPTION:Summer nights come ALIVE in Historic Downtown Manassas with Battle Street Live\, the premier outdoor live music experience where local and national bands perform every Friday & Saturday night in 2024 from May 3 through Oct. 12. Streets close to become a pedestrian paradise in the middle of our historic district.  \n\n\n\nBusinesses that are part of Battle Street Live include Carmello’s/Monza\, Battle Street Bistro\, and Public House Kitchen & Brewery.  (Battle Street Live is located on Battle Street between Center and Church Streets.) \n\n\n\nNOTE: To see the list of bands visit Battle Street Live.
URL:https://visitmanassas.org/event/battle-street-live-3/2024-06-28/
LOCATION:Battle Street\, 9405 Battle Street\, Manassas\, 20110
CATEGORIES:Date Night,Family Friendly,First Friday,Live Music & Entertainment
ATTACH;FMTTYPE=image/jpeg:https://visitmanassas.org/wp-content/uploads/2023/05/Battle-Street-Live-tables-guests-outside-Monza.jpg
ORGANIZER;CN="Battle Street Live":MAILTO:sheila@carmellos.com
END:VEVENT
BEGIN:VEVENT
DTSTART;TZID=America/New_York:20240629T180000
DTEND;TZID=America/New_York:20240629T220000
DTSTAMP:20260421T185728
CREATED:20240318T132213Z
LAST-MODIFIED:20240405T124911Z
UID:10000874-1719684000-1719698400@visitmanassas.org
SUMMARY:Battle Street Live
DESCRIPTION:Summer nights come ALIVE in Historic Downtown Manassas with Battle Street Live\, the premier outdoor live music experience where local and national bands perform every Friday & Saturday night in 2024 from May 3 through Oct. 12. Streets close to become a pedestrian paradise in the middle of our historic district.  \n\n\n\nBusinesses that are part of Battle Street Live include Carmello’s/Monza\, Battle Street Bistro\, and Public House Kitchen & Brewery.  (Battle Street Live is located on Battle Street between Center and Church Streets.) \n\n\n\nNOTE: To see the list of bands visit Battle Street Live.
URL:https://visitmanassas.org/event/battle-street-live-3/2024-06-29/
LOCATION:Battle Street\, 9405 Battle Street\, Manassas\, 20110
CATEGORIES:Date Night,Family Friendly,First Friday,Live Music & Entertainment
ATTACH;FMTTYPE=image/jpeg:https://visitmanassas.org/wp-content/uploads/2023/05/Battle-Street-Live-tables-guests-outside-Monza.jpg
ORGANIZER;CN="Battle Street Live":MAILTO:sheila@carmellos.com
END:VEVENT
END:VCALENDAR