BEGIN:VCALENDAR
VERSION:2.0
PRODID:-//City of Manassas Tourism - ECPv6.15.20//NONSGML v1.0//EN
CALSCALE:GREGORIAN
METHOD:PUBLISH
X-WR-CALNAME:City of Manassas Tourism
X-ORIGINAL-URL:https://visitmanassas.org
X-WR-CALDESC:Events for City of Manassas Tourism
REFRESH-INTERVAL;VALUE=DURATION:PT1H
X-Robots-Tag:noindex
X-PUBLISHED-TTL:PT1H
BEGIN:VTIMEZONE
TZID:America/New_York
BEGIN:DAYLIGHT
TZOFFSETFROM:-0500
TZOFFSETTO:-0400
TZNAME:EDT
DTSTART:20230312T070000
END:DAYLIGHT
BEGIN:STANDARD
TZOFFSETFROM:-0400
TZOFFSETTO:-0500
TZNAME:EST
DTSTART:20231105T060000
END:STANDARD
BEGIN:DAYLIGHT
TZOFFSETFROM:-0500
TZOFFSETTO:-0400
TZNAME:EDT
DTSTART:20240310T070000
END:DAYLIGHT
BEGIN:STANDARD
TZOFFSETFROM:-0400
TZOFFSETTO:-0500
TZNAME:EST
DTSTART:20241103T060000
END:STANDARD
BEGIN:DAYLIGHT
TZOFFSETFROM:-0500
TZOFFSETTO:-0400
TZNAME:EDT
DTSTART:20250309T070000
END:DAYLIGHT
BEGIN:STANDARD
TZOFFSETFROM:-0400
TZOFFSETTO:-0500
TZNAME:EST
DTSTART:20251102T060000
END:STANDARD
END:VTIMEZONE
BEGIN:VEVENT
DTSTART;TZID=America/New_York:20240525T180000
DTEND;TZID=America/New_York:20240525T220000
DTSTAMP:20260421T202635
CREATED:20240318T132213Z
LAST-MODIFIED:20240405T124911Z
UID:10000864-1716660000-1716674400@visitmanassas.org
SUMMARY:Battle Street Live
DESCRIPTION:Summer nights come ALIVE in Historic Downtown Manassas with Battle Street Live\, the premier outdoor live music experience where local and national bands perform every Friday & Saturday night in 2024 from May 3 through Oct. 12. Streets close to become a pedestrian paradise in the middle of our historic district.  \n\n\n\nBusinesses that are part of Battle Street Live include Carmello’s/Monza\, Battle Street Bistro\, and Public House Kitchen & Brewery.  (Battle Street Live is located on Battle Street between Center and Church Streets.) \n\n\n\nNOTE: To see the list of bands visit Battle Street Live.
URL:https://visitmanassas.org/event/battle-street-live-3/2024-05-25/
LOCATION:Battle Street\, 9405 Battle Street\, Manassas\, 20110
CATEGORIES:Date Night,Family Friendly,First Friday,Live Music & Entertainment
ATTACH;FMTTYPE=image/jpeg:https://visitmanassas.org/wp-content/uploads/2023/05/Battle-Street-Live-tables-guests-outside-Monza.jpg
ORGANIZER;CN="Battle Street Live":MAILTO:sheila@carmellos.com
END:VEVENT
BEGIN:VEVENT
DTSTART;TZID=America/New_York:20240531T180000
DTEND;TZID=America/New_York:20240531T220000
DTSTAMP:20260421T202635
CREATED:20240318T132213Z
LAST-MODIFIED:20240405T124911Z
UID:10000865-1717178400-1717192800@visitmanassas.org
SUMMARY:Battle Street Live
DESCRIPTION:Summer nights come ALIVE in Historic Downtown Manassas with Battle Street Live\, the premier outdoor live music experience where local and national bands perform every Friday & Saturday night in 2024 from May 3 through Oct. 12. Streets close to become a pedestrian paradise in the middle of our historic district.  \n\n\n\nBusinesses that are part of Battle Street Live include Carmello’s/Monza\, Battle Street Bistro\, and Public House Kitchen & Brewery.  (Battle Street Live is located on Battle Street between Center and Church Streets.) \n\n\n\nNOTE: To see the list of bands visit Battle Street Live.
URL:https://visitmanassas.org/event/battle-street-live-3/2024-05-31/
LOCATION:Battle Street\, 9405 Battle Street\, Manassas\, 20110
CATEGORIES:Date Night,Family Friendly,First Friday,Live Music & Entertainment
ATTACH;FMTTYPE=image/jpeg:https://visitmanassas.org/wp-content/uploads/2023/05/Battle-Street-Live-tables-guests-outside-Monza.jpg
ORGANIZER;CN="Battle Street Live":MAILTO:sheila@carmellos.com
END:VEVENT
END:VCALENDAR