BEGIN:VCALENDAR
VERSION:2.0
PRODID:-//City of Manassas Tourism - ECPv6.15.20//NONSGML v1.0//EN
CALSCALE:GREGORIAN
METHOD:PUBLISH
X-WR-CALNAME:City of Manassas Tourism
X-ORIGINAL-URL:https://visitmanassas.org
X-WR-CALDESC:Events for City of Manassas Tourism
REFRESH-INTERVAL;VALUE=DURATION:PT1H
X-Robots-Tag:noindex
X-PUBLISHED-TTL:PT1H
BEGIN:VTIMEZONE
TZID:America/New_York
BEGIN:DAYLIGHT
TZOFFSETFROM:-0500
TZOFFSETTO:-0400
TZNAME:EDT
DTSTART:20250309T070000
END:DAYLIGHT
BEGIN:STANDARD
TZOFFSETFROM:-0400
TZOFFSETTO:-0500
TZNAME:EST
DTSTART:20251102T060000
END:STANDARD
BEGIN:DAYLIGHT
TZOFFSETFROM:-0500
TZOFFSETTO:-0400
TZNAME:EDT
DTSTART:20260308T070000
END:DAYLIGHT
BEGIN:STANDARD
TZOFFSETFROM:-0400
TZOFFSETTO:-0500
TZNAME:EST
DTSTART:20261101T060000
END:STANDARD
BEGIN:DAYLIGHT
TZOFFSETFROM:-0500
TZOFFSETTO:-0400
TZNAME:EDT
DTSTART:20270314T070000
END:DAYLIGHT
BEGIN:STANDARD
TZOFFSETFROM:-0400
TZOFFSETTO:-0500
TZNAME:EST
DTSTART:20271107T060000
END:STANDARD
END:VTIMEZONE
BEGIN:VEVENT
DTSTART;TZID=America/New_York:20260314T100000
DTEND;TZID=America/New_York:20260314T140000
DTSTAMP:20260423T082300
CREATED:20241023T172800Z
LAST-MODIFIED:20260120T170233Z
UID:10002982-1773482400-1773496800@visitmanassas.org
SUMMARY:Winter Market 2026
DESCRIPTION:Get cozy on Saturdays at the Winter Market\, Jan. 17 through March 21\, in Historic Downtown Manassas that brings together the best regional farms and creators. Shop pasture-raised meats\, tasty baked goods\, preserves\, crafts\, and more.  \n\n\n\nThis year\, HMI is offering a 2026 Winter Market Loyalty Card! Come to the market\, get your loyalty card stamped\, and after eight visits\, earn $10.00 in cash as a reward for braving the cold to support local vendors. Stay connected to the local food economy while discovering unique cold-season flavors and gifts.
URL:https://visitmanassas.org/event/winter-market-2026-9/
LOCATION:Water Tower Lot (Prince William Street)\, 9116 Prince William Street\, Manassas\, VA\, 20110\, United States
ATTACH;FMTTYPE=image/png:https://visitmanassas.org/wp-content/uploads/2024/10/HMI-2026-Winter-Market-Jan.-17-March-21-2026.png
ORGANIZER;CN="Historic Manassas%2C Inc. (HMI)":MAILTO:info@historicmanassasinc.org
END:VEVENT
BEGIN:VEVENT
DTSTART;TZID=America/New_York:20260314T110000
DTEND;TZID=America/New_York:20260314T123000
DTSTAMP:20260423T082300
CREATED:20230202T015009Z
LAST-MODIFIED:20260422T165513Z
UID:10000325-1773486000-1773491400@visitmanassas.org
SUMMARY:Greater Manassas St. Patrick's Day Parade
DESCRIPTION:Wear your Irish "green" to this family-friendly parade along Center Street in Historic Downtown Manassas! 2026 marks our 26th annual Greater Manassas St. Patrick's Day Parade when the streets are filled with military and pipe bands\, Irish dance groups\, dignitaries\, and others celebrating this decades-long Irish tradition. Several restaurants serve specialty foods to commemorate St. Patrick's Day.
URL:https://visitmanassas.org/event/greater-manassas-st-patricks-day-parade/
LOCATION:Historic Downtown Manassas\, 9431 West Street\, Manassas\, VA\, 20110\, United States
CATEGORIES:Educational,Family Friendly,Live Music & Entertainment,Saint Patrick's Day
ATTACH;FMTTYPE=image/jpeg:https://visitmanassas.org/wp-content/uploads/2019/02/st-pat-day-parade.jpg
GEO:38.792244;-77.511522
X-APPLE-STRUCTURED-LOCATION;VALUE=URI;X-ADDRESS=Historic Downtown Manassas 9431 West Street Manassas VA 20110 United States;X-APPLE-RADIUS=500;X-TITLE=9431 West Street:geo:-77.511522,38.792244
END:VEVENT
BEGIN:VEVENT
DTSTART;TZID=America/New_York:20260321T100000
DTEND;TZID=America/New_York:20260321T140000
DTSTAMP:20260423T082300
CREATED:20241023T173032Z
LAST-MODIFIED:20260120T170254Z
UID:10002983-1774087200-1774101600@visitmanassas.org
SUMMARY:Winter Market 2026
DESCRIPTION:Get cozy on Saturdays at the Winter Market\, Jan. 17 through March 21\, in Historic Downtown Manassas that brings together the best regional farms and creators. Shop pasture-raised meats\, tasty baked goods\, preserves\, crafts\, and more.  \n\n\n\nThis year\, HMI is offering a 2026 Winter Market Loyalty Card! Come to the market\, get your loyalty card stamped\, and after eight visits\, earn $10.00 in cash as a reward for braving the cold to support local vendors. Stay connected to the local food economy while discovering unique cold-season flavors and gifts.
URL:https://visitmanassas.org/event/winter-market-2026-10/
LOCATION:Water Tower Lot (Prince William Street)\, 9116 Prince William Street\, Manassas\, VA\, 20110\, United States
ATTACH;FMTTYPE=image/png:https://visitmanassas.org/wp-content/uploads/2024/10/HMI-2026-Winter-Market-Jan.-17-March-21-2026.png
ORGANIZER;CN="Historic Manassas%2C Inc. (HMI)":MAILTO:info@historicmanassasinc.org
END:VEVENT
END:VCALENDAR