BEGIN:VCALENDAR
VERSION:2.0
PRODID:-//City of Manassas Tourism - ECPv6.15.20//NONSGML v1.0//EN
CALSCALE:GREGORIAN
METHOD:PUBLISH
X-WR-CALNAME:City of Manassas Tourism
X-ORIGINAL-URL:https://visitmanassas.org
X-WR-CALDESC:Events for City of Manassas Tourism
REFRESH-INTERVAL;VALUE=DURATION:PT1H
X-Robots-Tag:noindex
X-PUBLISHED-TTL:PT1H
BEGIN:VTIMEZONE
TZID:America/New_York
BEGIN:DAYLIGHT
TZOFFSETFROM:-0500
TZOFFSETTO:-0400
TZNAME:EDT
DTSTART:20210314T070000
END:DAYLIGHT
BEGIN:STANDARD
TZOFFSETFROM:-0400
TZOFFSETTO:-0500
TZNAME:EST
DTSTART:20211107T060000
END:STANDARD
BEGIN:DAYLIGHT
TZOFFSETFROM:-0500
TZOFFSETTO:-0400
TZNAME:EDT
DTSTART:20220313T070000
END:DAYLIGHT
BEGIN:STANDARD
TZOFFSETFROM:-0400
TZOFFSETTO:-0500
TZNAME:EST
DTSTART:20221106T060000
END:STANDARD
BEGIN:DAYLIGHT
TZOFFSETFROM:-0500
TZOFFSETTO:-0400
TZNAME:EDT
DTSTART:20230312T070000
END:DAYLIGHT
BEGIN:STANDARD
TZOFFSETFROM:-0400
TZOFFSETTO:-0500
TZNAME:EST
DTSTART:20231105T060000
END:STANDARD
END:VTIMEZONE
BEGIN:VEVENT
DTSTART;TZID=America/New_York:20220916T170000
DTEND;TZID=America/New_York:20220916T220000
DTSTAMP:20260421T213511
CREATED:20220903T002051Z
LAST-MODIFIED:20230324T153943Z
UID:10000202-1663347600-1663365600@visitmanassas.org
SUMMARY:Mariachi's Mexican Independence Day Event
DESCRIPTION:Join the festivities in celebration of Mexican Independence Day at Mariachi's Tequileria & Restaurant in Historic Downtown Manassas!
URL:https://visitmanassas.org/event/mariachis-mexican-independence-day-event/
LOCATION:Mariachis Tequileria & Restaurant\, 9428 Battle Street\, Manassas\, VA
ATTACH;FMTTYPE=image/jpeg:https://visitmanassas.org/wp-content/uploads/2022/09/Mariachis-for-Mexican-Independence-Day-Event-9-16-22.jpg
ORGANIZER;CN="Mariachis Tequileria & Restaurant":MAILTO:info@mariachimanassas.com
END:VEVENT
BEGIN:VEVENT
DTSTART;TZID=America/New_York:20220910T170000
DTEND;TZID=America/New_York:20220910T220000
DTSTAMP:20260421T213511
CREATED:20220617T215715Z
LAST-MODIFIED:20230324T153851Z
UID:10000181-1662829200-1662847200@visitmanassas.org
SUMMARY:11th Annual Bands\, Brews\, & Barbecue
DESCRIPTION:It's FREE!\n\n\n\nEnjoy live bands\, brews\, and barbecue while strolling all throughout Historic Downtown Manassas. Come on down and continue the tradition! \n\n\n\nFollow Us On Instagram \n\n\n\n\n\nThe Bands\n\n\n\n\nGlen Shelton & Band5:00 PM - 6:45 PM\n\n\n\nForm of Expression7:00 PM - 8:45 PM\n\n\n\nMars Radio9:00 PM - 10:00 PM
URL:https://visitmanassas.org/event/11th-annual-bands-brews-barbecue/
LOCATION:Harris Pavilion\, 9201 Center St\, Manassas\, VA\, 20110\, United States
ATTACH;FMTTYPE=image/jpeg:https://visitmanassas.org/wp-content/uploads/2022/07/BandsBrewsBBQ.jpg
ORGANIZER;CN="Historic Manassas%2C Inc.":MAILTO:info@historicmanassasinc.org
GEO:38.7509488;-77.4752667
X-APPLE-STRUCTURED-LOCATION;VALUE=URI;X-ADDRESS=Harris Pavilion 9201 Center St Manassas VA 20110 United States;X-APPLE-RADIUS=500;X-TITLE=9201 Center St:geo:-77.4752667,38.7509488
END:VEVENT
BEGIN:VEVENT
DTSTART;TZID=America/New_York:20220910T103000
DTEND;TZID=America/New_York:20220910T140000
DTSTAMP:20260421T213511
CREATED:20220903T004603Z
LAST-MODIFIED:20230324T153829Z
UID:10000203-1662805800-1662818400@visitmanassas.org
SUMMARY:Manassas Out of the Darkness Walk
DESCRIPTION:Come be a part of the movement that's helping create a culture that's smart about mental health. Join together as people walk in community to fight suicide. Funds raised support research\, education\, advocacy\, and support for those affected by suicide.
URL:https://visitmanassas.org/event/manassas-out-of-the-darkness-walk/
LOCATION:Harris Pavilion\, 9201 Center St\, Manassas\, VA\, 20110\, United States
ATTACH;FMTTYPE=image/jpeg:https://visitmanassas.org/wp-content/uploads/2022/09/Out-of-the-Darkness-Walk-9-10-22.jpg
ORGANIZER;CN="American Foundation for Suicide Prevention (AFSP)":MAILTO:Chair.ManassasWalk@gmail.com
GEO:38.7509488;-77.4752667
X-APPLE-STRUCTURED-LOCATION;VALUE=URI;X-ADDRESS=Harris Pavilion 9201 Center St Manassas VA 20110 United States;X-APPLE-RADIUS=500;X-TITLE=9201 Center St:geo:-77.4752667,38.7509488
END:VEVENT
BEGIN:VEVENT
DTSTART;TZID=America/New_York:20220904T150000
DTEND;TZID=America/New_York:20220904T170000
DTSTAMP:20260421T213511
CREATED:20220829T224338Z
LAST-MODIFIED:20230324T153751Z
UID:10000196-1662303600-1662310800@visitmanassas.org
SUMMARY:Sunday funday Concerts - Manassas Symphony Orchestra
DESCRIPTION:Parks\, Culture & Recreation703-368-1873www.harrispavilion.com
URL:https://visitmanassas.org/event/sunday-funday-concerts-manassas-symphony-orchestra/
LOCATION:Harris Pavilion\, 9201 Center St\, Manassas\, VA\, 20110\, United States
ATTACH;FMTTYPE=image/jpeg:https://visitmanassas.org/wp-content/uploads/2022/08/2022Summer-HarrisPavilion.jpg
GEO:38.7509488;-77.4752667
X-APPLE-STRUCTURED-LOCATION;VALUE=URI;X-ADDRESS=Harris Pavilion 9201 Center St Manassas VA 20110 United States;X-APPLE-RADIUS=500;X-TITLE=9201 Center St:geo:-77.4752667,38.7509488
END:VEVENT
BEGIN:VEVENT
DTSTART;TZID=America/New_York:20220903T183000
DTEND;TZID=America/New_York:20220903T203000
DTSTAMP:20260421T213511
CREATED:20220829T224542Z
LAST-MODIFIED:20230324T153730Z
UID:10000197-1662229800-1662237000@visitmanassas.org
SUMMARY:Summersounds concert series - Quimbao latin band
DESCRIPTION:Brought to you by the ARTfactory \n\n\n\nParks\, Culture & Recreation \n\n\n\n703-368-1873 \n\n\n\nwww.harrispavilion.com
URL:https://visitmanassas.org/event/summersounds-concert-series/
LOCATION:Harris Pavilion\, 9201 Center St\, Manassas\, VA\, 20110\, United States
ATTACH;FMTTYPE=image/jpeg:https://visitmanassas.org/wp-content/uploads/2022/08/2022Summer-HarrisPavilion.jpg
GEO:38.7509488;-77.4752667
X-APPLE-STRUCTURED-LOCATION;VALUE=URI;X-ADDRESS=Harris Pavilion 9201 Center St Manassas VA 20110 United States;X-APPLE-RADIUS=500;X-TITLE=9201 Center St:geo:-77.4752667,38.7509488
END:VEVENT
BEGIN:VEVENT
DTSTART;TZID=America/New_York:20220902T180000
DTEND;TZID=America/New_York:20220902T210000
DTSTAMP:20260421T213511
CREATED:20220722T192737Z
LAST-MODIFIED:20230324T153700Z
UID:10000186-1662141600-1662152400@visitmanassas.org
SUMMARY:First Friday
DESCRIPTION:Tequila & Tacos is the theme for September's First Friday! Restaurants will feature their own special versions of tacos. Stroll throughout Historic Downtown Manassas for a festive evening of live music\, food\, and drinks!
URL:https://visitmanassas.org/event/first-friday-2/
LOCATION:VA
CATEGORIES:Exclude,First Friday
ATTACH;FMTTYPE=image/jpeg:https://visitmanassas.org/wp-content/uploads/2022/08/Tequila-Tacos-1st-Friday-in-Sept.-2022.jpg
ORGANIZER;CN="Historic Manassas%2C Inc. (HMI)":MAILTO:info@historicmanassasinc.org
END:VEVENT
BEGIN:VEVENT
DTSTART;TZID=America/New_York:20220829T150000
DTEND;TZID=America/New_York:20220829T170000
DTSTAMP:20260421T213511
CREATED:20220829T224153Z
LAST-MODIFIED:20230324T153638Z
UID:10000195-1661785200-1661792400@visitmanassas.org
SUMMARY:Sunday Funday Concert - Prince William Community Band
DESCRIPTION:
URL:https://visitmanassas.org/event/sunday-funday-concert-prince-william-community-band/
LOCATION:VA
ATTACH;FMTTYPE=image/jpeg:https://visitmanassas.org/wp-content/uploads/2022/08/2022Summer-HarrisPavilion.jpg
END:VEVENT
BEGIN:VEVENT
DTSTART;TZID=America/New_York:20220814T100000
DTEND;TZID=America/New_York:20220814T200000
DTSTAMP:20260421T213511
CREATED:20220809T170443Z
LAST-MODIFIED:20230324T153618Z
UID:10000193-1660471200-1660507200@visitmanassas.org
SUMMARY:Dia Del Salvadoreno Festival
DESCRIPTION:Organized by the Salvadoran American Council (COSALVA)\, the Latin American community will come together to celebrate this year's third festival\, which has become the most anticipated artistic-cultural event in the D.C. metro area. Enjoy the richest\, most varied dishes from Central America\, Mexico\, and South America and a wide variety of crafts.  \n\n\n\nWebsite: Festival Del Dia Del Salvadore
URL:https://visitmanassas.org/event/dia-del-salvadoreno-festival/
LOCATION:Harris Pavilion\, 9201 Center St\, Manassas\, VA\, 20110\, United States
ATTACH;FMTTYPE=image/jpeg:https://visitmanassas.org/wp-content/uploads/2022/08/Dia-Del-Salvadoreno-Festival-8-14-22.jpg
GEO:38.7509488;-77.4752667
X-APPLE-STRUCTURED-LOCATION;VALUE=URI;X-ADDRESS=Harris Pavilion 9201 Center St Manassas VA 20110 United States;X-APPLE-RADIUS=500;X-TITLE=9201 Center St:geo:-77.4752667,38.7509488
END:VEVENT
BEGIN:VEVENT
DTSTART;TZID=America/New_York:20220805T180000
DTEND;TZID=America/New_York:20220805T210000
DTSTAMP:20260421T213511
CREATED:20220722T192346Z
LAST-MODIFIED:20230324T153546Z
UID:10000185-1659722400-1659733200@visitmanassas.org
SUMMARY:First Friday
DESCRIPTION:Dog Days of Summer: So much fun for you and your dog! \n\n\n\n\nDog Reiki\n\n\n\nAgility Course\n\n\n\nDog Contest at The Things I Love\n\n\n\nDog activities at Three Monkeys Pub & Chophouse Restaurant
URL:https://visitmanassas.org/event/first-friday/
LOCATION:VA
CATEGORIES:First Friday
ATTACH;FMTTYPE=image/png:https://visitmanassas.org/wp-content/uploads/2022/07/FirstFridayAugust.png
ORGANIZER;CN="Historic Manassas%2C Inc.":MAILTO:info@historicmanassasinc.org
END:VEVENT
BEGIN:VEVENT
DTSTART;TZID=America/New_York:20220802T180000
DTEND;TZID=America/New_York:20220802T193000
DTSTAMP:20260421T213511
CREATED:20220729T194511Z
LAST-MODIFIED:20230324T153510Z
UID:10000192-1659463200-1659468600@visitmanassas.org
SUMMARY:National Night Out
DESCRIPTION:Join the Manassas City Police Department for free food\, snow cones\, games\, and police demos. Visit community partners while having fun and enjoying a night out against crime.
URL:https://visitmanassas.org/event/national-night-out-2022/
LOCATION:Manassas Museum Lawn\, 9101 Prince William St.\, Manassas\, VA\, 20110\, United States
CATEGORIES:Family Friendly
ATTACH;FMTTYPE=image/jpeg:https://visitmanassas.org/wp-content/uploads/2022/07/National-Night-Out-with-Manassas-City-Police-8-2-22.jpg
ORGANIZER;CN="Manassas City Police Department":MAILTO:bstumpf@manassasva.gov
END:VEVENT
BEGIN:VEVENT
DTSTART;TZID=America/New_York:20220704T150000
DTEND;TZID=America/New_York:20220704T220000
DTSTAMP:20260421T213511
CREATED:20220617T214425Z
LAST-MODIFIED:20230324T153434Z
UID:10000180-1656946800-1656972000@visitmanassas.org
SUMMARY:Celebrate America
DESCRIPTION:Celebrate America this Independence Day with one of the largest fireworks displays in Northern Virginia! It’s an all-American party in Historic Downtown Manassas\, sponsored by the City of Manassas and Historic Manassas\, Inc.! \n\n\n\nThe celebration surrounds the Manassas Visitor’s Center in the Historic Train Depot\, the Harris Pavilion and the Manassas Museum. \n\n\n\nThe Harris Pavilion will feature community contests from 3 pm – 5 pm. There will be a Bicycle Decorating Contest for the kids starting at 3 pm. At 4 pm\, contestants of all ages will compete to blow the biggest bubblegum bubble in the Bubblegum Blowing Contest. Then at 5 pm\, contestants of all ages will race to finish their watermelon the quickest in the Watermelon Eating Contest. Please arrive 30 minutes prior to any contest you wish to participate in.
URL:https://visitmanassas.org/event/celebrate-america/
LOCATION:Celebrate America July 4\, 9431 West Street\, Manassas\, VA\, 20110\, United States
ATTACH;FMTTYPE=image/jpeg:https://visitmanassas.org/wp-content/uploads/2018/04/Fireworks-viewing.jpg
END:VEVENT
END:VCALENDAR