BEGIN:VCALENDAR
VERSION:2.0
PRODID:-//City of Manassas Tourism - ECPv6.15.20//NONSGML v1.0//EN
CALSCALE:GREGORIAN
METHOD:PUBLISH
X-ORIGINAL-URL:https://visitmanassas.org
X-WR-CALDESC:Events for City of Manassas Tourism
REFRESH-INTERVAL;VALUE=DURATION:PT1H
X-Robots-Tag:noindex
X-PUBLISHED-TTL:PT1H
BEGIN:VTIMEZONE
TZID:America/New_York
BEGIN:DAYLIGHT
TZOFFSETFROM:-0500
TZOFFSETTO:-0400
TZNAME:EDT
DTSTART:20250309T070000
END:DAYLIGHT
BEGIN:STANDARD
TZOFFSETFROM:-0400
TZOFFSETTO:-0500
TZNAME:EST
DTSTART:20251102T060000
END:STANDARD
BEGIN:DAYLIGHT
TZOFFSETFROM:-0500
TZOFFSETTO:-0400
TZNAME:EDT
DTSTART:20260308T070000
END:DAYLIGHT
BEGIN:STANDARD
TZOFFSETFROM:-0400
TZOFFSETTO:-0500
TZNAME:EST
DTSTART:20261101T060000
END:STANDARD
BEGIN:DAYLIGHT
TZOFFSETFROM:-0500
TZOFFSETTO:-0400
TZNAME:EDT
DTSTART:20270314T070000
END:DAYLIGHT
BEGIN:STANDARD
TZOFFSETFROM:-0400
TZOFFSETTO:-0500
TZNAME:EST
DTSTART:20271107T060000
END:STANDARD
END:VTIMEZONE
BEGIN:VEVENT
DTSTART;TZID=America/New_York:20261204T160000
DTEND;TZID=America/New_York:20261204T200000
DTSTAMP:20260422T065216
CREATED:20251028T131030Z
LAST-MODIFIED:20260305T182715Z
UID:10000265-1796400000-1796414400@visitmanassas.org
SUMMARY:Holiday Market
DESCRIPTION:Let's go shopping!🛍️ In conjunction with Santa Lights Manassas\, this holiday market features local producers\, hand-crafted treasures\, artisans\, and food vendors at the Manassas Train Depot parking lot. While kids wait for Santa to arrive by train\, parents can shop. Hot chocolate\, coffee\, and other tempting treats will be available. Pick up those last-minute holiday gifts!  \n\n\n\n5:15 p.m. Entertainment begins on West Street and Museum Lawn Stage6:19 p.m. Santa arrives on the VRE train at the Manassas Depot6:30 p.m. Tree lighting ceremony6:45 p.m. Santa heads to greet children at a tent near Harris Pavilion
URL:https://visitmanassas.org/event/holiday-market-2026/
LOCATION:Manassas Train Depot Parking Lot\, 9431 West Street\, Manassas\, Virginia\, 20110
CATEGORIES:Family Friendly,Featured,Holiday,Live Music & Entertainment,Manassas Museum Event,Winter Holiday
ATTACH;FMTTYPE=image/png:https://visitmanassas.org/wp-content/uploads/2022/10/Holiday-Market-at-Train-Depot-12-5-25.png
ORGANIZER;CN="Historic Manassas%2C Inc.":MAILTO:info@historicmanassasinc.org
END:VEVENT
END:VCALENDAR